BEGIN:VCALENDAR
VERSION:2.0
PRODID:-//ANAT - ECPv4.5.13//NONSGML v1.0//EN
CALSCALE:GREGORIAN
METHOD:PUBLISH
X-WR-CALNAME:ANAT
X-ORIGINAL-URL:https://www.anat.ro
X-WR-CALDESC:Events for ANAT
BEGIN:VEVENT
DTSTART;VALUE=DATE:20141103
DTEND;VALUE=DATE:20141106
DTSTAMP:20260419T173114
CREATED:20141130T003845Z
LAST-MODIFIED:20141130T004049Z
UID:9108-1414972800-1415318399@www.anat.ro
SUMMARY:WTM
DESCRIPTION:
URL:https://www.anat.ro/event/wtm/
LOCATION:Londra\, United Kingdom
CATEGORIES:Târguri internaționale
END:VEVENT
END:VCALENDAR