BEGIN:VCALENDAR
VERSION:2.0
PRODID:-//ANAT - ECPv4.5.13//NONSGML v1.0//EN
CALSCALE:GREGORIAN
METHOD:PUBLISH
X-WR-CALNAME:ANAT
X-ORIGINAL-URL:https://www.anat.ro
X-WR-CALDESC:Events for ANAT
BEGIN:VEVENT
DTSTART;TZID=Europe/Bucharest:20171220T100000
DTEND;TZID=Europe/Bucharest:20171220T140000
DTSTAMP:20260421T191328
CREATED:20171212T113504Z
LAST-MODIFIED:20171218T085122Z
UID:20592-1513764000-1513778400@www.anat.ro
SUMMARY:Workshop ”GDPR și agențiile de turism”
DESCRIPTION:Andrei Balint\, Certified Information Privacy Manager (CIPM) al IAPP – International Association of Privacy Professionals \nhttps://www.facebook.com/events/1765685273506910/ \n
URL:https://www.anat.ro/event/workshop-gdpr-si-agentiile-de-turism/
LOCATION:Str. Horia Măcelariu nr. 59\, București\, Sector 1\, 013934\, România
CATEGORIES:ANAT
ORGANIZER;CN="Liviu%20Moraru":MAILTO:liviu.moraru@anat.ro
END:VEVENT
END:VCALENDAR