BEGIN:VCALENDAR
VERSION:2.0
PRODID:-//ANAT - ECPv4.5.13//NONSGML v1.0//EN
CALSCALE:GREGORIAN
METHOD:PUBLISH
X-WR-CALNAME:ANAT
X-ORIGINAL-URL:https://www.anat.ro
X-WR-CALDESC:Events for ANAT
BEGIN:VEVENT
DTSTART;VALUE=DATE:20181115
DTEND;VALUE=DATE:20181118
DTSTAMP:20260421T225345
CREATED:20180105T094140Z
LAST-MODIFIED:20180404T093601Z
UID:20760-1542240000-1542585599@www.anat.ro
SUMMARY:TTR\, București
DESCRIPTION:
URL:https://www.anat.ro/event/ttr-bucuresti-2/
END:VEVENT
END:VCALENDAR