BEGIN:VCALENDAR
VERSION:2.0
PRODID:-//ANAT - ECPv4.5.13//NONSGML v1.0//EN
CALSCALE:GREGORIAN
METHOD:PUBLISH
X-WR-CALNAME:ANAT
X-ORIGINAL-URL:https://www.anat.ro
X-WR-CALDESC:Events for ANAT
BEGIN:VEVENT
DTSTART;TZID=Europe/Bucharest:20150206T080000
DTEND;TZID=Europe/Bucharest:20150208T170000
DTSTAMP:20260421T080918
CREATED:20141219T141441Z
LAST-MODIFIED:20141219T141441Z
UID:10155-1423209600-1423414800@www.anat.ro
SUMMARY:TTF - Travel and Tourism Fair\, Mumbai\, India
DESCRIPTION:
URL:https://www.anat.ro/event/ttf-travel-and-tourism-fair-mumbai-india/
CATEGORIES:Târguri internaționale
END:VEVENT
END:VCALENDAR