BEGIN:VCALENDAR
VERSION:2.0
PRODID:-//ANAT - ECPv4.5.13//NONSGML v1.0//EN
CALSCALE:GREGORIAN
METHOD:PUBLISH
X-WR-CALNAME:ANAT
X-ORIGINAL-URL:https://www.anat.ro
X-WR-CALDESC:Events for ANAT
BEGIN:VEVENT
DTSTART;TZID=Europe/Bucharest:20170317T100000
DTEND;TZID=Europe/Bucharest:20170319T180000
DTSTAMP:20260421T193427
CREATED:20170206T140427Z
LAST-MODIFIED:20170207T114515Z
UID:17391-1489744800-1489946400@www.anat.ro
SUMMARY:Transylvania Tourism Fair\, Brașov
DESCRIPTION:
URL:https://www.anat.ro/event/transylvania-tourism-fair/
LOCATION:Brașov\, România
CATEGORIES:Târguri
END:VEVENT
END:VCALENDAR