BEGIN:VCALENDAR
VERSION:2.0
PRODID:-//ANAT - ECPv4.5.13//NONSGML v1.0//EN
CALSCALE:GREGORIAN
METHOD:PUBLISH
X-WR-CALNAME:ANAT
X-ORIGINAL-URL:https://www.anat.ro
X-WR-CALDESC:Events for ANAT
BEGIN:VEVENT
DTSTART;VALUE=DATE:20181105
DTEND;VALUE=DATE:20181107
DTSTAMP:20260421T225647
CREATED:20171128T114814Z
LAST-MODIFIED:20171128T114814Z
UID:20508-1541376000-1541635199@www.anat.ro
SUMMARY:Târgul de Turism WTM\, Londra
DESCRIPTION:Articol destinat exclusiv membrilor ANAT! \n[no-access] \n
URL:https://www.anat.ro/event/targul-de-turism-wtm-londra/
CATEGORIES:Târguri internaționale
END:VEVENT
END:VCALENDAR