BEGIN:VCALENDAR
VERSION:2.0
PRODID:-//ANAT - ECPv4.5.13//NONSGML v1.0//EN
CALSCALE:GREGORIAN
METHOD:PUBLISH
X-WR-CALNAME:ANAT
X-ORIGINAL-URL:https://www.anat.ro
X-WR-CALDESC:Events for ANAT
BEGIN:VEVENT
DTSTART;TZID=Europe/Bucharest:20190301T080000
DTEND;TZID=Europe/Bucharest:20190303T170000
DTSTAMP:20260422T040824
CREATED:20190531T110407Z
LAST-MODIFIED:20190531T110407Z
UID:23920-1551427200-1551632400@www.anat.ro
SUMMARY:Târgul de Turism Vacanța\, Timișoara
DESCRIPTION:
URL:https://www.anat.ro/event/targul-de-turism-vacanta-timisoara-4/
CATEGORIES:Târguri de turism
END:VEVENT
END:VCALENDAR