BEGIN:VCALENDAR
VERSION:2.0
PRODID:-//ANAT - ECPv4.5.13//NONSGML v1.0//EN
CALSCALE:GREGORIAN
METHOD:PUBLISH
X-WR-CALNAME:ANAT
X-ORIGINAL-URL:https://www.anat.ro
X-WR-CALDESC:Events for ANAT
BEGIN:VEVENT
DTSTART;VALUE=DATE:20180302
DTEND;VALUE=DATE:20180304
DTSTAMP:20260421T234432
CREATED:20180105T095322Z
LAST-MODIFIED:20180105T120835Z
UID:20764-1519948800-1520207999@www.anat.ro
SUMMARY:T.T. Vacanța\, Timișoara
DESCRIPTION:
URL:https://www.anat.ro/event/targul-de-turism-vacanta-timisoara-2/
END:VEVENT
END:VCALENDAR