BEGIN:VCALENDAR
VERSION:2.0
PRODID:-//ANAT - ECPv4.5.13//NONSGML v1.0//EN
CALSCALE:GREGORIAN
METHOD:PUBLISH
X-WR-CALNAME:ANAT
X-ORIGINAL-URL:https://www.anat.ro
X-WR-CALDESC:Events for ANAT
BEGIN:VEVENT
DTSTART;TZID=Europe/Bucharest:20170317T100000
DTEND;TZID=Europe/Bucharest:20170319T180000
DTSTAMP:20260421T182516
CREATED:20170206T140606Z
LAST-MODIFIED:20170206T140606Z
UID:17395-1489744800-1489946400@www.anat.ro
SUMMARY:Târgul de Turism Vacanța - Iași
DESCRIPTION:
URL:https://www.anat.ro/event/targul-de-turism-vacanta-iasi/
LOCATION:Iași\, România
CATEGORIES:Târguri
ORGANIZER;CN="ANAT":MAILTO: office@anat.ro
END:VEVENT
END:VCALENDAR