BEGIN:VCALENDAR
VERSION:2.0
PRODID:-//ANAT - ECPv4.5.13//NONSGML v1.0//EN
CALSCALE:GREGORIAN
METHOD:PUBLISH
X-WR-CALNAME:ANAT
X-ORIGINAL-URL:https://www.anat.ro
X-WR-CALDESC:Events for ANAT
BEGIN:VEVENT
DTSTART;VALUE=DATE:20180316
DTEND;VALUE=DATE:20180318
DTSTAMP:20260422T014635
CREATED:20180105T093150Z
LAST-MODIFIED:20180105T093150Z
UID:20751-1521158400-1521417599@www.anat.ro
SUMMARY:Târgul de Turism Vacanța\, Iași
DESCRIPTION:
URL:https://www.anat.ro/event/targul-de-turism-vacanta-iasi-2/
END:VEVENT
END:VCALENDAR