BEGIN:VCALENDAR
VERSION:2.0
PRODID:-//ANAT - ECPv4.5.13//NONSGML v1.0//EN
CALSCALE:GREGORIAN
METHOD:PUBLISH
X-WR-CALNAME:ANAT
X-ORIGINAL-URL:https://www.anat.ro
X-WR-CALDESC:Events for ANAT
BEGIN:VEVENT
DTSTART;TZID=Europe/Bucharest:20190328T080000
DTEND;TZID=Europe/Bucharest:20190331T170000
DTSTAMP:20260422T030341
CREATED:20190531T110644Z
LAST-MODIFIED:20190531T110644Z
UID:23923-1553760000-1554051600@www.anat.ro
SUMMARY:Târgul de Turism Vacanța\, Constanța
DESCRIPTION:
URL:https://www.anat.ro/event/targul-de-turism-vacanta-constanta-3/
CATEGORIES:Târguri de turism
END:VEVENT
END:VCALENDAR