BEGIN:VCALENDAR
VERSION:2.0
PRODID:-//ANAT - ECPv4.5.13//NONSGML v1.0//EN
CALSCALE:GREGORIAN
METHOD:PUBLISH
X-WR-CALNAME:ANAT
X-ORIGINAL-URL:https://www.anat.ro
X-WR-CALDESC:Events for ANAT
BEGIN:VEVENT
DTSTART;VALUE=DATE:20180111
DTEND;VALUE=DATE:20180114
DTSTAMP:20260421T191608
CREATED:20171122T120648Z
LAST-MODIFIED:20171211T130133Z
UID:20418-1515628800-1515974399@www.anat.ro
SUMMARY:Ferien Messe\, Viena
DESCRIPTION:http://www.ferien-messe.at/en/ \n
URL:https://www.anat.ro/event/targul-de-turism-turism-ferien-messe-viena/
END:VEVENT
END:VCALENDAR