BEGIN:VCALENDAR
VERSION:2.0
PRODID:-//ANAT - ECPv4.5.13//NONSGML v1.0//EN
CALSCALE:GREGORIAN
METHOD:PUBLISH
X-WR-CALNAME:ANAT
X-ORIGINAL-URL:https://www.anat.ro
X-WR-CALDESC:Events for ANAT
BEGIN:VEVENT
DTSTART;VALUE=DATE:20180126
DTEND;VALUE=DATE:20180128
DTSTAMP:20260421T214506
CREATED:20171122T121741Z
LAST-MODIFIED:20171124T152825Z
UID:20436-1516924800-1517183999@www.anat.ro
SUMMARY:The Holiday World Show\, Dublin
DESCRIPTION:Articol destinat exclusiv membrilor ANAT! \n[no-access] \n
URL:https://www.anat.ro/event/targul-de-turism-the-holiday-world-show-dublin/
CATEGORIES:Târguri internaționale
END:VEVENT
END:VCALENDAR