BEGIN:VCALENDAR
VERSION:2.0
PRODID:-//ANAT - ECPv4.5.13//NONSGML v1.0//EN
CALSCALE:GREGORIAN
METHOD:PUBLISH
X-WR-CALNAME:ANAT
X-ORIGINAL-URL:https://www.anat.ro
X-WR-CALDESC:Events for ANAT
BEGIN:VEVENT
DTSTART;VALUE=DATE:20180206
DTEND;VALUE=DATE:20180207
DTSTAMP:20260421T214348
CREATED:20171122T122034Z
LAST-MODIFIED:20171124T152756Z
UID:20440-1517875200-1518047999@www.anat.ro
SUMMARY:IMTM\, Tel Aviv
DESCRIPTION:Articol destinat exclusiv membrilor ANAT! \n[no-access] \n
URL:https://www.anat.ro/event/targul-de-turism-imtm-tel-aviv/
CATEGORIES:Târguri internaționale
END:VEVENT
END:VCALENDAR