BEGIN:VCALENDAR
VERSION:2.0
PRODID:-//ANAT - ECPv4.5.13//NONSGML v1.0//EN
CALSCALE:GREGORIAN
METHOD:PUBLISH
X-WR-CALNAME:ANAT
X-ORIGINAL-URL:https://www.anat.ro
X-WR-CALDESC:Events for ANAT
BEGIN:VEVENT
DTSTART;VALUE=DATE:20180504
DTEND;VALUE=DATE:20180506
DTSTAMP:20260421T234625
CREATED:20171124T105225Z
LAST-MODIFIED:20171124T152326Z
UID:20473-1525392000-1525651199@www.anat.ro
SUMMARY:Expovacaciones\, Bilbao
DESCRIPTION:Articol destinat exclusiv membrilor ANAT! \n[no-access] \n
URL:https://www.anat.ro/event/targul-de-turism-expovacaciones-bilbao/
CATEGORIES:Târguri internaționale
END:VEVENT
END:VCALENDAR