BEGIN:VCALENDAR
VERSION:2.0
PRODID:-//ANAT - ECPv4.5.13//NONSGML v1.0//EN
CALSCALE:GREGORIAN
METHOD:PUBLISH
X-WR-CALNAME:ANAT
X-ORIGINAL-URL:https://www.anat.ro
X-WR-CALDESC:Events for ANAT
BEGIN:VEVENT
DTSTART;VALUE=DATE:20180211
DTEND;VALUE=DATE:20180213
DTSTAMP:20260421T225529
CREATED:20171124T104328Z
LAST-MODIFIED:20171124T152724Z
UID:20465-1518307200-1518566399@www.anat.ro
SUMMARY:BIT\, Milano
DESCRIPTION:Articol destinat exclusiv membrilor ANAT! \n[no-access] \n
URL:https://www.anat.ro/event/targul-de-turism-bit-milano/
CATEGORIES:Târguri internaționale
END:VEVENT
END:VCALENDAR