BEGIN:VCALENDAR
VERSION:2.0
PRODID:-//ANAT - ECPv4.5.13//NONSGML v1.0//EN
CALSCALE:GREGORIAN
METHOD:PUBLISH
X-WR-CALNAME:ANAT
X-ORIGINAL-URL:https://www.anat.ro
X-WR-CALDESC:Events for ANAT
BEGIN:VEVENT
DTSTART;TZID=Europe/Bucharest:20171116T100000
DTEND;TZID=Europe/Bucharest:20171118T180000
DTSTAMP:20260421T205547
CREATED:20171109T132643Z
LAST-MODIFIED:20171109T135757Z
UID:20311-1510826400-1511028000@www.anat.ro
SUMMARY:Târgul de Turism al României\, București
DESCRIPTION:
URL:https://www.anat.ro/event/targul-de-turism-al-romaniei-bucuresti/
LOCATION:București\, România
END:VEVENT
END:VCALENDAR