BEGIN:VCALENDAR
VERSION:2.0
PRODID:-//ANAT - ECPv4.5.13//NONSGML v1.0//EN
CALSCALE:GREGORIAN
METHOD:PUBLISH
X-WR-CALNAME:ANAT
X-ORIGINAL-URL:https://www.anat.ro
X-WR-CALDESC:Events for ANAT
BEGIN:VEVENT
DTSTART;TZID=Europe/Bucharest:20171119T100000
DTEND;TZID=Europe/Bucharest:20171119T160000
DTSTAMP:20260421T193525
CREATED:20171109T132842Z
LAST-MODIFIED:20171109T132842Z
UID:20313-1511085600-1511107200@www.anat.ro
SUMMARY:Târgul de Turism al României\, București
DESCRIPTION:
URL:https://www.anat.ro/event/targul-de-turism-al-romaniei-bucuresti-2/
CATEGORIES:Târguri,Târguri de turism
END:VEVENT
END:VCALENDAR