BEGIN:VCALENDAR
VERSION:2.0
PRODID:-//ANAT - ECPv4.5.13//NONSGML v1.0//EN
CALSCALE:GREGORIAN
METHOD:PUBLISH
X-WR-CALNAME:ANAT
X-ORIGINAL-URL:https://www.anat.ro
X-WR-CALDESC:Events for ANAT
BEGIN:VEVENT
DTSTART;TZID=Europe/Bucharest:20170406T080000
DTEND;TZID=Europe/Bucharest:20170409T170000
DTSTAMP:20260421T193617
CREATED:20170119T100150Z
LAST-MODIFIED:20170201T202702Z
UID:17215-1491465600-1491757200@www.anat.ro
SUMMARY:Tourism. Leisure. Hotels\, Chișinău
DESCRIPTION:http://www.tourism.moldexpo.md/ \n
URL:https://www.anat.ro/event/targ-extern-de-turism-tourism-leisure-hotels/
LOCATION:Chișinău\, Moldova\, Republica
CATEGORIES:Târguri de turism
END:VEVENT
END:VCALENDAR