BEGIN:VCALENDAR
VERSION:2.0
PRODID:-//ANAT - ECPv4.5.13//NONSGML v1.0//EN
CALSCALE:GREGORIAN
METHOD:PUBLISH
X-WR-CALNAME:ANAT
X-ORIGINAL-URL:https://www.anat.ro
X-WR-CALDESC:Events for ANAT
BEGIN:VEVENT
DTSTART;TZID=Europe/Bucharest:20170302T080000
DTEND;TZID=Europe/Bucharest:20170305T170000
DTSTAMP:20260421T181643
CREATED:20170119T093021Z
LAST-MODIFIED:20170201T202203Z
UID:17191-1488441600-1488733200@www.anat.ro
SUMMARY:UTAZAS\, Budapesta
DESCRIPTION:
URL:https://www.anat.ro/event/targ-de-turism-extern-utazas/
LOCATION:Budapesta\, Ungaria
CATEGORIES:Târguri internaționale
END:VEVENT
END:VCALENDAR