BEGIN:VCALENDAR
VERSION:2.0
PRODID:-//ANAT - ECPv4.5.13//NONSGML v1.0//EN
CALSCALE:GREGORIAN
METHOD:PUBLISH
X-WR-CALNAME:ANAT
X-ORIGINAL-URL:https://www.anat.ro
X-WR-CALDESC:Events for ANAT
BEGIN:VEVENT
DTSTART;TZID=Europe/Bucharest:20170221T080000
DTEND;TZID=Europe/Bucharest:20170223T170000
DTSTAMP:20260421T170504
CREATED:20170119T092632Z
LAST-MODIFIED:20170203T144222Z
UID:17188-1487664000-1487869200@www.anat.ro
SUMMARY:TTF Mumbai
DESCRIPTION:http://10times.com/ \n
URL:https://www.anat.ro/event/targ-de-turism-extern-ttf-otm/
LOCATION:Mumbai\, India
CATEGORIES:Târguri internaționale
END:VEVENT
END:VCALENDAR