BEGIN:VCALENDAR
VERSION:2.0
PRODID:-//ANAT - ECPv4.5.13//NONSGML v1.0//EN
CALSCALE:GREGORIAN
METHOD:PUBLISH
X-WR-CALNAME:ANAT
X-ORIGINAL-URL:https://www.anat.ro
X-WR-CALDESC:Events for ANAT
BEGIN:VEVENT
DTSTART;TZID=Europe/Bucharest:20170114T080000
DTEND;TZID=Europe/Bucharest:20170115T170000
DTSTAMP:20260421T080850
CREATED:20170119T082151Z
LAST-MODIFIED:20170120T083013Z
UID:17147-1484380800-1484499600@www.anat.ro
SUMMARY:Travel and Adventure Show
DESCRIPTION:America’s Favorite Travel Show Returns to Washington DC \n \n
URL:https://www.anat.ro/event/targ-de-turism-extern-travel-and-adventure-show/
LOCATION:Washintong DC\, Statele Unite
CATEGORIES:Târguri internaționale
END:VEVENT
END:VCALENDAR