BEGIN:VCALENDAR
VERSION:2.0
PRODID:-//ANAT - ECPv4.5.13//NONSGML v1.0//EN
CALSCALE:GREGORIAN
METHOD:PUBLISH
X-WR-CALNAME:ANAT
X-ORIGINAL-URL:https://www.anat.ro
X-WR-CALDESC:Events for ANAT
BEGIN:VEVENT
DTSTART;TZID=Europe/Bucharest:20170218T080000
DTEND;TZID=Europe/Bucharest:20170219T170000
DTSTAMP:20260421T153043
CREATED:20170119T091948Z
LAST-MODIFIED:20170201T200519Z
UID:17180-1487404800-1487523600@www.anat.ro
SUMMARY:Travel & Adventure L.A.
DESCRIPTION:L.A.’s Favorite Travel Show is Now the Nation’s Largest \n \n
URL:https://www.anat.ro/event/targ-de-turism-extern-travel-and-adventure-show-3/
LOCATION:Los Angeles\, Statele Unite
CATEGORIES:Târguri internaționale
END:VEVENT
END:VCALENDAR