BEGIN:VCALENDAR
VERSION:2.0
PRODID:-//ANAT - ECPv4.5.13//NONSGML v1.0//EN
CALSCALE:GREGORIAN
METHOD:PUBLISH
X-WR-CALNAME:ANAT
X-ORIGINAL-URL:https://www.anat.ro
X-WR-CALDESC:Events for ANAT
BEGIN:VEVENT
DTSTART;TZID=Europe/Bucharest:20170921T080000
DTEND;TZID=Europe/Bucharest:20170924T170000
DTSTAMP:20260421T180206
CREATED:20170119T133240Z
LAST-MODIFIED:20170202T083738Z
UID:17230-1505980800-1506272400@www.anat.ro
SUMMARY:JATA\, Tokyo
DESCRIPTION:http://t-expo.jp/en/ \n
URL:https://www.anat.ro/event/targ-de-turism-extern-jata/
LOCATION:Tokyo\, Japonia
CATEGORIES:Târguri internaționale
END:VEVENT
END:VCALENDAR