BEGIN:VCALENDAR
VERSION:2.0
PRODID:-//ANAT - ECPv4.5.13//NONSGML v1.0//EN
CALSCALE:GREGORIAN
METHOD:PUBLISH
X-WR-CALNAME:ANAT
X-ORIGINAL-URL:https://www.anat.ro
X-WR-CALDESC:Events for ANAT
BEGIN:VEVENT
DTSTART;TZID=Europe/Bucharest:20170308T080000
DTEND;TZID=Europe/Bucharest:20170312T170000
DTSTAMP:20260421T192420
CREATED:20170119T094644Z
LAST-MODIFIED:20170201T201942Z
UID:17194-1488960000-1489338000@www.anat.ro
SUMMARY:ITB\, Berlin
DESCRIPTION:http://www.itb-berlin.de/ \n
URL:https://www.anat.ro/event/targ-de-turism-extern-itb/
LOCATION:Berlin\, Germania
CATEGORIES:Târguri internaționale
END:VEVENT
END:VCALENDAR