BEGIN:VCALENDAR
VERSION:2.0
PRODID:-//ANAT - ECPv4.5.13//NONSGML v1.0//EN
CALSCALE:GREGORIAN
METHOD:PUBLISH
X-WR-CALNAME:ANAT
X-ORIGINAL-URL:https://www.anat.ro
X-WR-CALDESC:Events for ANAT
BEGIN:VEVENT
DTSTART;TZID=Europe/Bucharest:20170207T080000
DTEND;TZID=Europe/Bucharest:20170208T170000
DTSTAMP:20260421T114915
CREATED:20170119T090714Z
LAST-MODIFIED:20170201T201618Z
UID:17171-1486454400-1486573200@www.anat.ro
SUMMARY:IMTM\, Tel Aviv
DESCRIPTION:http://www.imtm-telaviv.com/ \n
URL:https://www.anat.ro/event/targ-de-turism-extern-imtm/
LOCATION:Tel Aviv\, Israel
CATEGORIES:Târguri internaționale
END:VEVENT
END:VCALENDAR