BEGIN:VCALENDAR
VERSION:2.0
PRODID:-//ANAT - ECPv4.5.13//NONSGML v1.0//EN
CALSCALE:GREGORIAN
METHOD:PUBLISH
X-WR-CALNAME:ANAT
X-ORIGINAL-URL:https://www.anat.ro
X-WR-CALDESC:Events for ANAT
BEGIN:VEVENT
DTSTART;TZID=Europe/Bucharest:20170127T080000
DTEND;TZID=Europe/Bucharest:20170129T170000
DTSTAMP:20260421T104224
CREATED:20170119T085403Z
LAST-MODIFIED:20170120T084810Z
UID:17165-1485504000-1485709200@www.anat.ro
SUMMARY:Holiday World Show
DESCRIPTION:http://www.holidayworldshow.com/ \n
URL:https://www.anat.ro/event/targ-de-turism-extern-holiday-world-show/
LOCATION:dublin\, Irlanda
CATEGORIES:Târguri internaționale
END:VEVENT
END:VCALENDAR