BEGIN:VCALENDAR
VERSION:2.0
PRODID:-//ANAT - ECPv4.5.13//NONSGML v1.0//EN
CALSCALE:GREGORIAN
METHOD:PUBLISH
X-WR-CALNAME:ANAT
X-ORIGINAL-URL:https://www.anat.ro
X-WR-CALDESC:Events for ANAT
BEGIN:VEVENT
DTSTART;TZID=Europe/Bucharest:20170224T080000
DTEND;TZID=Europe/Bucharest:20170226T170000
DTSTAMP:20260421T182800
CREATED:20170119T092416Z
LAST-MODIFIED:20170201T185438Z
UID:17186-1487923200-1488128400@www.anat.ro
SUMMARY:Danish Travel Show
DESCRIPTION:http://www.danishtravelshow.com/ \n
URL:https://www.anat.ro/event/targ-de-turism-extern-ferie-for-alledanish-travel-show/
CATEGORIES:Târguri internaționale
END:VEVENT
END:VCALENDAR