BEGIN:VCALENDAR
VERSION:2.0
PRODID:-//ANAT - ECPv4.5.13//NONSGML v1.0//EN
CALSCALE:GREGORIAN
METHOD:PUBLISH
X-WR-CALNAME:ANAT
X-ORIGINAL-URL:https://www.anat.ro
X-WR-CALDESC:Events for ANAT
BEGIN:VEVENT
DTSTART;TZID=Europe/Bucharest:20170513T080000
DTEND;TZID=Europe/Bucharest:20170513T170000
DTSTAMP:20260421T182633
CREATED:20170119T100401Z
LAST-MODIFIED:20170202T083019Z
UID:17218-1494662400-1494694800@www.anat.ro
SUMMARY:European Union Open House\, Washington DC
DESCRIPTION:
URL:https://www.anat.ro/event/targ-de-turism-extern-european-union-open-house/
LOCATION:Washington DC\, Statele Unite
CATEGORIES:Târguri internaționale
END:VEVENT
END:VCALENDAR