BEGIN:VCALENDAR
VERSION:2.0
PRODID:-//ANAT - ECPv4.5.13//NONSGML v1.0//EN
CALSCALE:GREGORIAN
METHOD:PUBLISH
X-WR-CALNAME:ANAT
X-ORIGINAL-URL:https://www.anat.ro
X-WR-CALDESC:Events for ANAT
BEGIN:VEVENT
DTSTART;TZID=Europe/Bucharest:20171018T080000
DTEND;TZID=Europe/Bucharest:20171022T170000
DTSTAMP:20260421T191419
CREATED:20170119T133442Z
LAST-MODIFIED:20170202T084116Z
UID:17233-1508313600-1508691600@www.anat.ro
SUMMARY:CARAVAN SALON\, Austria
DESCRIPTION:http://www.caravan-wels.at/ \n
URL:https://www.anat.ro/event/targ-de-turism-extern-caravan-salon/
LOCATION:Wels\, Austria
END:VEVENT
END:VCALENDAR