BEGIN:VCALENDAR
VERSION:2.0
PRODID:-//ANAT - ECPv4.5.13//NONSGML v1.0//EN
CALSCALE:GREGORIAN
METHOD:PUBLISH
X-WR-CALNAME:ANAT
X-ORIGINAL-URL:https://www.anat.ro
X-WR-CALDESC:Events for ANAT
BEGIN:VEVENT
DTSTART;TZID=Europe/Bucharest:20170402T080000
DTEND;TZID=Europe/Bucharest:20170404T170000
DTSTAMP:20260421T205547
CREATED:20170119T095905Z
LAST-MODIFIED:20170206T175130Z
UID:17212-1491120000-1491325200@www.anat.ro
SUMMARY:Borsa Int. del Turismo\, Milano
DESCRIPTION:http://bit.fieramilano.it/it \n
URL:https://www.anat.ro/event/targ-de-turism-extern-borsa-internazionale-del-turismo/
LOCATION:Milano\, Italia
CATEGORIES:Târguri internaționale
END:VEVENT
END:VCALENDAR