BEGIN:VCALENDAR
VERSION:2.0
PRODID:-//ANAT - ECPv4.5.13//NONSGML v1.0//EN
CALSCALE:GREGORIAN
METHOD:PUBLISH
X-WR-CALNAME:ANAT
X-ORIGINAL-URL:https://www.anat.ro
X-WR-CALDESC:Events for ANAT
BEGIN:VEVENT
DTSTART;VALUE=DATE:20190423
DTEND;VALUE=DATE:20190423
DTSTAMP:20260422T170548
CREATED:20190606T064820Z
LAST-MODIFIED:20190606T064820Z
UID:24040-1555977600-1556063999@www.anat.ro
SUMMARY:Spectacol artistic Gașca Zurli - Casa Zurli\, Sala Polivalentă\, Ora 19:00
DESCRIPTION:
URL:https://www.anat.ro/event/spectacol-artistic-gasca-zurli-casa-zurli-sala-polivalenta-ora-1900/
CATEGORIES:Evenimente în București
END:VEVENT
END:VCALENDAR