BEGIN:VCALENDAR
VERSION:2.0
PRODID:-//ANAT - ECPv4.5.13//NONSGML v1.0//EN
CALSCALE:GREGORIAN
METHOD:PUBLISH
X-WR-CALNAME:ANAT
X-ORIGINAL-URL:https://www.anat.ro
X-WR-CALDESC:Events for ANAT
BEGIN:VEVENT
DTSTART;TZID=Europe/Bucharest:20170217T133000
DTEND;TZID=Europe/Bucharest:20170217T163000
DTSTAMP:20260421T165319
CREATED:20170202T094929Z
LAST-MODIFIED:20170203T144708Z
UID:17349-1487338200-1487349000@www.anat.ro
SUMMARY:ANAT seminar - potențial piața chineză
DESCRIPTION:Potențial piața chineză\, la TTR\, vineri\, 17 februarie 2017\, ora 13:30\, Centrul de Presă \n \n
URL:https://www.anat.ro/event/seminar-prezentare-potential-piata-chineza-ttr-romexpo/
LOCATION:Bd. Marasti nr. 65-67\, sector 1\, Bucuresti\, Bucuresti\, 011465\, România
CATEGORIES:Târguri de turism
END:VEVENT
END:VCALENDAR