BEGIN:VCALENDAR
VERSION:2.0
PRODID:-//ANAT - ECPv4.5.13//NONSGML v1.0//EN
CALSCALE:GREGORIAN
METHOD:PUBLISH
X-WR-CALNAME:ANAT
X-ORIGINAL-URL:https://www.anat.ro
X-WR-CALDESC:Events for ANAT
BEGIN:VEVENT
DTSTART;TZID=Europe/Bucharest:20170217T110000
DTEND;TZID=Europe/Bucharest:20170217T143000
DTSTAMP:20260421T153839
CREATED:20170213T065948Z
LAST-MODIFIED:20170213T065948Z
UID:17456-1487329200-1487341800@www.anat.ro
SUMMARY:Seminar OPTBR " Turism și sănătate"
DESCRIPTION:
URL:https://www.anat.ro/event/seminar-optbr-turism-si-sanatate/
LOCATION:București\, România
CATEGORIES:Altele
END:VEVENT
END:VCALENDAR