BEGIN:VCALENDAR
VERSION:2.0
PRODID:-//ANAT - ECPv4.5.13//NONSGML v1.0//EN
CALSCALE:GREGORIAN
METHOD:PUBLISH
X-WR-CALNAME:ANAT
X-ORIGINAL-URL:https://www.anat.ro
X-WR-CALDESC:Events for ANAT
BEGIN:VEVENT
DTSTART;TZID=Europe/Bucharest:20180315T150000
DTEND;TZID=Europe/Bucharest:20180315T170000
DTSTAMP:20260422T004728
CREATED:20180228T070234Z
LAST-MODIFIED:20180308T092944Z
UID:21404-1521126000-1521133200@www.anat.ro
SUMMARY:Ședință Vest Membri\\, Timișoara
DESCRIPTION:
URL:https://www.anat.ro/event/sedinta-vest-membrinemembri/
ORGANIZER;CN="ANAT":MAILTO: office@anat.ro
END:VEVENT
END:VCALENDAR