BEGIN:VCALENDAR
VERSION:2.0
PRODID:-//ANAT - ECPv4.5.13//NONSGML v1.0//EN
CALSCALE:GREGORIAN
METHOD:PUBLISH
X-WR-CALNAME:ANAT
X-ORIGINAL-URL:https://www.anat.ro
X-WR-CALDESC:Events for ANAT
BEGIN:VEVENT
DTSTART;TZID=Europe/Bucharest:20171117T153000
DTEND;TZID=Europe/Bucharest:20171117T180000
DTSTAMP:20260421T191834
CREATED:20171109T134520Z
LAST-MODIFIED:20171109T134548Z
UID:20320-1510932600-1510941600@www.anat.ro
SUMMARY:Ședința deschisă a Comisiei de Legislație a ANAT\, București
DESCRIPTION:http://www.anat.ro/sedinta-deschisa-a-comisiei-de-legislatie-a-anat-17-nov-ora-15-30-18-00-sala-balcescu-c6-romexpo/ \n  \n
URL:https://www.anat.ro/event/sedinta-deschisa-a-comisiei-de-legislatie-a-anat-bucuresti/
END:VEVENT
END:VCALENDAR