BEGIN:VCALENDAR
VERSION:2.0
PRODID:-//ANAT - ECPv4.5.13//NONSGML v1.0//EN
CALSCALE:GREGORIAN
METHOD:PUBLISH
X-WR-CALNAME:ANAT
X-ORIGINAL-URL:https://www.anat.ro
X-WR-CALDESC:Events for ANAT
BEGIN:VEVENT
DTSTART;TZID=Europe/Bucharest:20141203T150000
DTEND;TZID=Europe/Bucharest:20141203T180000
DTSTAMP:20260419T144708
CREATED:20141202T090610Z
LAST-MODIFIED:20141203T154723Z
UID:9824-1417618800-1417629600@www.anat.ro
SUMMARY:Consiliul Regional București Ilfov 
DESCRIPTION:
URL:https://www.anat.ro/event/sedinta-consiliului-regional-bucuresti-ilfov/
LOCATION:Str. Horia Măcelariu nr. 59\, București\, Sector 1\, 013934\, România
CATEGORIES:ANAT
ORGANIZER;CN="ANAT":MAILTO: office@anat.ro
END:VEVENT
END:VCALENDAR