BEGIN:VCALENDAR
VERSION:2.0
PRODID:-//ANAT - ECPv4.5.13//NONSGML v1.0//EN
CALSCALE:GREGORIAN
METHOD:PUBLISH
X-WR-CALNAME:ANAT
X-ORIGINAL-URL:https://www.anat.ro
X-WR-CALDESC:Events for ANAT
BEGIN:VEVENT
DTSTART;TZID=Europe/Bucharest:20180412T110000
DTEND;TZID=Europe/Bucharest:20180412T140000
DTSTAMP:20260421T234650
CREATED:20180418T065912Z
LAST-MODIFIED:20180418T065912Z
UID:21717-1523530800-1523541600@www.anat.ro
SUMMARY:Ședința Comisiei Turism Intern\, Destinații Interne și MICE
DESCRIPTION:
URL:https://www.anat.ro/event/sedinta-comisiei-turism-intern-destinatii-interne-si-mice/
LOCATION:Str. Horia Măcelariu nr. 59\, București\, Sector 1\, 013934\, România
END:VEVENT
END:VCALENDAR