BEGIN:VCALENDAR
VERSION:2.0
PRODID:-//ANAT - ECPv4.5.13//NONSGML v1.0//EN
CALSCALE:GREGORIAN
METHOD:PUBLISH
X-WR-CALNAME:ANAT
X-ORIGINAL-URL:https://www.anat.ro
X-WR-CALDESC:Events for ANAT
BEGIN:VEVENT
DTSTART;TZID=Europe/Bucharest:20170522T110000
DTEND;TZID=Europe/Bucharest:20170522T180000
DTSTAMP:20260421T153549
CREATED:20170128T100608Z
LAST-MODIFIED:20170515T195228Z
UID:17316-1495450800-1495476000@www.anat.ro
SUMMARY:Ședință CD\, Mamaia
DESCRIPTION:
URL:https://www.anat.ro/event/sedinta-cd-litoral/
CATEGORIES:ANAT
ORGANIZER;CN="ANAT":MAILTO: office@anat.ro
END:VEVENT
END:VCALENDAR