BEGIN:VCALENDAR
VERSION:2.0
PRODID:-//ANAT - ECPv4.5.13//NONSGML v1.0//EN
CALSCALE:GREGORIAN
METHOD:PUBLISH
X-WR-CALNAME:ANAT
X-ORIGINAL-URL:https://www.anat.ro
X-WR-CALDESC:Events for ANAT
BEGIN:VEVENT
DTSTART;VALUE=DATE:20190123
DTEND;VALUE=DATE:20190123
DTSTAMP:20260421T234257
CREATED:20190123T114307Z
LAST-MODIFIED:20190531T104606Z
UID:23908-1548201600-1548287999@www.anat.ro
SUMMARY:Ședința Biroului Executiv ANAT
DESCRIPTION:
URL:https://www.anat.ro/event/sedinta-biroului-executiv-anat/
CATEGORIES:ANAT
END:VEVENT
END:VCALENDAR