BEGIN:VCALENDAR
VERSION:2.0
PRODID:-//ANAT - ECPv4.5.13//NONSGML v1.0//EN
CALSCALE:GREGORIAN
METHOD:PUBLISH
X-WR-CALNAME:ANAT
X-ORIGINAL-URL:https://www.anat.ro
X-WR-CALDESC:Events for ANAT
BEGIN:VEVENT
DTSTART;VALUE=DATE:20190530
DTEND;VALUE=DATE:20190530
DTSTAMP:20260422T040620
CREATED:20190531T105708Z
LAST-MODIFIED:20190531T105708Z
UID:23916-1559174400-1559260799@www.anat.ro
SUMMARY:Ședința Biroului Executiv ANAT
DESCRIPTION:
URL:https://www.anat.ro/event/sedinta-biroului-executiv-anat-3/
CATEGORIES:ANAT
END:VEVENT
END:VCALENDAR