BEGIN:VCALENDAR
VERSION:2.0
PRODID:-//ANAT - ECPv4.5.13//NONSGML v1.0//EN
CALSCALE:GREGORIAN
METHOD:PUBLISH
X-WR-CALNAME:ANAT
X-ORIGINAL-URL:https://www.anat.ro
X-WR-CALDESC:Events for ANAT
BEGIN:VEVENT
DTSTART;TZID=Europe/Bucharest:20190116T080000
DTEND;TZID=Europe/Bucharest:20190118T170000
DTSTAMP:20260421T225039
CREATED:20190531T105031Z
LAST-MODIFIED:20190531T105031Z
UID:23911-1547625600-1547830800@www.anat.ro
SUMMARY:SATTE - New Delhi\, India
DESCRIPTION:
URL:https://www.anat.ro/event/satte-new-delhi-india/
CATEGORIES:Târguri internaționale
END:VEVENT
END:VCALENDAR