BEGIN:VCALENDAR
VERSION:2.0
PRODID:-//ANAT - ECPv4.5.13//NONSGML v1.0//EN
CALSCALE:GREGORIAN
METHOD:PUBLISH
X-WR-CALNAME:ANAT
X-ORIGINAL-URL:https://www.anat.ro
X-WR-CALDESC:Events for ANAT
BEGIN:VEVENT
DTSTART;TZID=Europe/Bucharest:20171117T150000
DTEND;TZID=Europe/Bucharest:20171117T153000
DTSTAMP:20260421T203112
CREATED:20171109T134157Z
LAST-MODIFIED:20171109T134236Z
UID:20316-1510930800-1510932600@www.anat.ro
SUMMARY:Protecția datelor personale în agențiile de turism\, București
DESCRIPTION:Protecția datelor personale în agențiile de turism\, 17 nov\, ora 15.00-15.30\, sala Bălcescu\, Romexpo \n \n
URL:https://www.anat.ro/event/protectia-datelor-personale-in-agentiile-de-turism-bucuresti/
END:VEVENT
END:VCALENDAR