BEGIN:VCALENDAR
VERSION:2.0
PRODID:-//ANAT - ECPv4.5.13//NONSGML v1.0//EN
CALSCALE:GREGORIAN
METHOD:PUBLISH
X-WR-CALNAME:ANAT
X-ORIGINAL-URL:https://www.anat.ro
X-WR-CALDESC:Events for ANAT
BEGIN:VEVENT
DTSTART;VALUE=DATE:20190421
DTEND;VALUE=DATE:20190421
DTSTAMP:20260422T210008
CREATED:20190603T090618Z
LAST-MODIFIED:20190603T090618Z
UID:23990-1555804800-1555891199@www.anat.ro
SUMMARY:Nelu Vlad & Azur - concert aniversar\, Sala Palatului\, Ora 20:00
DESCRIPTION:
URL:https://www.anat.ro/event/nelu-vlad-azur-concert-aniversar-sala-palatului-ora-2000/
CATEGORIES:Evenimente în București
END:VEVENT
END:VCALENDAR