BEGIN:VCALENDAR
VERSION:2.0
PRODID:-//ANAT - ECPv4.5.13//NONSGML v1.0//EN
CALSCALE:GREGORIAN
METHOD:PUBLISH
X-WR-CALNAME:ANAT
X-ORIGINAL-URL:https://www.anat.ro
X-WR-CALDESC:Events for ANAT
BEGIN:VEVENT
DTSTART;VALUE=DATE:20190421
DTEND;VALUE=DATE:20190421
DTSTAMP:20260422T200138
CREATED:20190603T090217Z
LAST-MODIFIED:20190603T090217Z
UID:23988-1555804800-1555891199@www.anat.ro
SUMMARY:Musical: Secretul Pălăriei Fermecate\, Grand Cinema & More / Băneasa Shoping Center\, Ora 11:00
DESCRIPTION:
URL:https://www.anat.ro/event/musical-secretul-palariei-fermecate-grand-cinema-more-baneasa-shoping-center-ora-1100/
CATEGORIES:Evenimente în București
END:VEVENT
END:VCALENDAR