BEGIN:VCALENDAR
VERSION:2.0
PRODID:-//ANAT - ECPv4.5.13//NONSGML v1.0//EN
CALSCALE:GREGORIAN
METHOD:PUBLISH
X-WR-CALNAME:ANAT
X-ORIGINAL-URL:https://www.anat.ro
X-WR-CALDESC:Events for ANAT
BEGIN:VEVENT
DTSTART;VALUE=DATE:20190410
DTEND;VALUE=DATE:20190412
DTSTAMP:20260422T232321
CREATED:20190603T082616Z
LAST-MODIFIED:20190603T082616Z
UID:23965-1554854400-1555113599@www.anat.ro
SUMMARY:Musical: Musicalul Queen "We Will Rock You"\, Sala Palatului\, Ora 19:30
DESCRIPTION:
URL:https://www.anat.ro/event/musical-musicalul-queen-we-will-rock-you-sala-palatului-ora-1930/
CATEGORIES:Evenimente în București
END:VEVENT
END:VCALENDAR