BEGIN:VCALENDAR
VERSION:2.0
PRODID:-//ANAT - ECPv4.5.13//NONSGML v1.0//EN
CALSCALE:GREGORIAN
METHOD:PUBLISH
X-WR-CALNAME:ANAT
X-ORIGINAL-URL:https://www.anat.ro
X-WR-CALDESC:Events for ANAT
BEGIN:VEVENT
DTSTART;TZID=Europe/Bucharest:20190312T080000
DTEND;TZID=Europe/Bucharest:20190314T170000
DTSTAMP:20260422T061701
CREATED:20190531T111414Z
LAST-MODIFIED:20190531T111414Z
UID:23930-1552377600-1552582800@www.anat.ro
SUMMARY:MITT - Moscova\, Rusia
DESCRIPTION:
URL:https://www.anat.ro/event/mitt-moscova-rusia/
CATEGORIES:Târguri internaționale
END:VEVENT
END:VCALENDAR