BEGIN:VCALENDAR
VERSION:2.0
PRODID:-//ANAT - ECPv4.5.13//NONSGML v1.0//EN
CALSCALE:GREGORIAN
METHOD:PUBLISH
X-WR-CALNAME:ANAT
X-ORIGINAL-URL:https://www.anat.ro
X-WR-CALDESC:Events for ANAT
BEGIN:VEVENT
DTSTART;TZID=Europe/Bucharest:20190314T080000
DTEND;TZID=Europe/Bucharest:20190317T170000
DTSTAMP:20260422T061823
CREATED:20190531T111454Z
LAST-MODIFIED:20190531T111454Z
UID:23931-1552550400-1552842000@www.anat.ro
SUMMARY:MAP Le Monde a Paris - Paris\, Franța
DESCRIPTION:
URL:https://www.anat.ro/event/map-le-monde-a-paris-paris-franta-2/
CATEGORIES:Târguri internaționale
END:VEVENT
END:VCALENDAR