BEGIN:VCALENDAR
VERSION:2.0
PRODID:-//ANAT - ECPv4.5.13//NONSGML v1.0//EN
CALSCALE:GREGORIAN
METHOD:PUBLISH
X-WR-CALNAME:ANAT
X-ORIGINAL-URL:https://www.anat.ro
X-WR-CALDESC:Events for ANAT
BEGIN:VEVENT
DTSTART;TZID=Europe/Bucharest:20190212T080000
DTEND;TZID=Europe/Bucharest:20190213T170000
DTSTAMP:20260422T030342
CREATED:20190531T111220Z
LAST-MODIFIED:20190531T111220Z
UID:23927-1549958400-1550077200@www.anat.ro
SUMMARY:IMTM - Tel Aviv\, Israel
DESCRIPTION:
URL:https://www.anat.ro/event/imtm-tel-aviv-israel/
CATEGORIES:Târguri internaționale
END:VEVENT
END:VCALENDAR