BEGIN:VCALENDAR
VERSION:2.0
PRODID:-//ANAT - ECPv4.5.13//NONSGML v1.0//EN
CALSCALE:GREGORIAN
METHOD:PUBLISH
X-WR-CALNAME:ANAT
X-ORIGINAL-URL:https://www.anat.ro
X-WR-CALDESC:Events for ANAT
BEGIN:VEVENT
DTSTART;TZID=Europe/Bucharest:20180425T100000
DTEND;TZID=Europe/Bucharest:20180425T170000
DTSTAMP:20260421T234502
CREATED:20180319T095002Z
LAST-MODIFIED:20180319T095117Z
UID:21549-1524650400-1524675600@www.anat.ro
SUMMARY:GDPR curs 1 zi (pentru responsabil intern cu protecția datelor)\, Timișoara
DESCRIPTION:
URL:https://www.anat.ro/event/gdpr-curs-1-zi-pentru-responsabil-intern-cu-protectia-datelor-timisoara/
ORGANIZER;CN="ANAT":MAILTO: office@anat.ro
END:VEVENT
END:VCALENDAR